BEGIN:VCALENDAR
VERSION:2.0
PRODID:-//.:Assembleia de Deus em Silva Jardim - Ministério Só Vitória! - ECPv6.13.2.1//NONSGML v1.0//EN
CALSCALE:GREGORIAN
METHOD:PUBLISH
X-ORIGINAL-URL:https://adsilvajardim.com.br
X-WR-CALDESC:Eventos para .:Assembleia de Deus em Silva Jardim - Ministério Só Vitória!
REFRESH-INTERVAL;VALUE=DURATION:PT1H
X-Robots-Tag:noindex
X-PUBLISHED-TTL:PT1H
BEGIN:VTIMEZONE
TZID:America/Sao_Paulo
BEGIN:STANDARD
TZOFFSETFROM:-0200
TZOFFSETTO:-0300
TZNAME:-03
DTSTART:20150222T020000
END:STANDARD
BEGIN:DAYLIGHT
TZOFFSETFROM:-0300
TZOFFSETTO:-0200
TZNAME:-02
DTSTART:20151018T030000
END:DAYLIGHT
BEGIN:STANDARD
TZOFFSETFROM:-0200
TZOFFSETTO:-0300
TZNAME:-03
DTSTART:20160221T020000
END:STANDARD
BEGIN:DAYLIGHT
TZOFFSETFROM:-0300
TZOFFSETTO:-0200
TZNAME:-02
DTSTART:20161016T030000
END:DAYLIGHT
BEGIN:STANDARD
TZOFFSETFROM:-0200
TZOFFSETTO:-0300
TZNAME:-03
DTSTART:20170219T020000
END:STANDARD
BEGIN:DAYLIGHT
TZOFFSETFROM:-0300
TZOFFSETTO:-0200
TZNAME:-02
DTSTART:20171015T030000
END:DAYLIGHT
END:VTIMEZONE
BEGIN:VEVENT
DTSTART;TZID=America/Sao_Paulo:20170804T190000
DTEND;TZID=America/Sao_Paulo:20170806T220000
DTSTAMP:20260423T225642
CREATED:20170728T015224Z
LAST-MODIFIED:20170728T023309Z
UID:22609-1501873200-1502056800@adsilvajardim.com.br
SUMMARY:Festa de Jovens no Coqueiro
DESCRIPTION:
URL:https://adsilvajardim.com.br/evento/festa-de-jovens-no-coqueiro/
LOCATION:Assembleia de Deus em Coqueiro\, Coqueiro\, Silva Jardim\, Rio de Janeiro\, 28820-000\, Brazil
END:VEVENT
BEGIN:VEVENT
DTSTART;TZID=America/Sao_Paulo:20170729T190000
DTEND;TZID=America/Sao_Paulo:20170729T220000
DTSTAMP:20260423T225642
CREATED:20170728T024722Z
LAST-MODIFIED:20170728T024722Z
UID:22623-1501354800-1501365600@adsilvajardim.com.br
SUMMARY:Aniversário do Pastor Moises Cecilio
DESCRIPTION:
URL:https://adsilvajardim.com.br/evento/aniversario-do-pastor-moises-cecilio/
LOCATION:Assembléia de Deus em Silva Jardim\, Rua Borges Alfradique\, 196\, Centro\, Silva Jardim\, Rio de Janeiro\, 28820-000\, Brasil
END:VEVENT
BEGIN:VEVENT
DTSTART;TZID=America/Sao_Paulo:20170729T080000
DTEND;TZID=America/Sao_Paulo:20170729T120000
DTSTAMP:20260423T225642
CREATED:20170728T025015Z
LAST-MODIFIED:20170728T025015Z
UID:22627-1501315200-1501329600@adsilvajardim.com.br
SUMMARY:Batismo na Sede
DESCRIPTION:
URL:https://adsilvajardim.com.br/evento/batismo-na-sede-2/
LOCATION:Assembléia de Deus em Silva Jardim\, Rua Borges Alfradique\, 196\, Centro\, Silva Jardim\, Rio de Janeiro\, 28820-000\, Brasil
END:VEVENT
BEGIN:VEVENT
DTSTART;TZID=America/Sao_Paulo:20170728T190000
DTEND;TZID=America/Sao_Paulo:20170731T220000
DTSTAMP:20260423T225642
CREATED:20170728T014113Z
LAST-MODIFIED:20170728T022952Z
UID:22607-1501268400-1501538400@adsilvajardim.com.br
SUMMARY:Aniversário do Templo e dos Homens Na SEDE
DESCRIPTION:
URL:https://adsilvajardim.com.br/evento/aniversario-do-templo-e-dos-homens-na-sede/
LOCATION:Assembléia de Deus em Silva Jardim\, Rua Borges Alfradique\, 196\, Centro\, Silva Jardim\, Rio de Janeiro\, 28820-000\, Brasil
END:VEVENT
BEGIN:VEVENT
DTSTART;TZID=America/Sao_Paulo:20170428T190000
DTEND;TZID=America/Sao_Paulo:20170430T220000
DTSTAMP:20260423T225642
CREATED:20170317T060425Z
LAST-MODIFIED:20170317T060425Z
UID:22582-1493406000-1493589600@adsilvajardim.com.br
SUMMARY:Festa de Crianças no Caxito
DESCRIPTION:
URL:https://adsilvajardim.com.br/evento/festa-de-criancas-no-caxito/
LOCATION:Assembléia de Deus em Caxito\, Silva Jardim\, Rio de Janeiro\, 28820-000
END:VEVENT
BEGIN:VEVENT
DTSTART;TZID=America/Sao_Paulo:20170421T190000
DTEND;TZID=America/Sao_Paulo:20170423T220000
DTSTAMP:20260423T225642
CREATED:20170317T060237Z
LAST-MODIFIED:20170317T060237Z
UID:22578-1492801200-1492984800@adsilvajardim.com.br
SUMMARY:Aniversário do Templo e de Homens em Lagoa de Juturnaiba
DESCRIPTION:
URL:https://adsilvajardim.com.br/evento/aniversario-do-templo-e-de-homens-em-lagoa-de-juturnaiba/
LOCATION:Assembleia de Deus em Lagoa de Juturnaiba\, Juturnaiba\, Silva Jardim\, RJ\, 28820000\, Brasil
END:VEVENT
BEGIN:VEVENT
DTSTART;TZID=America/Sao_Paulo:20170421T190000
DTEND;TZID=America/Sao_Paulo:20170423T220000
DTSTAMP:20260423T225642
CREATED:20170317T055930Z
LAST-MODIFIED:20170317T055930Z
UID:22575-1492801200-1492984800@adsilvajardim.com.br
SUMMARY:Festa de Jovens em Varginha
DESCRIPTION:
URL:https://adsilvajardim.com.br/evento/festa-de-jovens-em-varginha/
LOCATION:Assembleia de Deus em Varginha\, Varginha\, Silva Jardim\, RJ\, 28820000\, Brasil
END:VEVENT
BEGIN:VEVENT
DTSTART;TZID=America/Sao_Paulo:20170414T190000
DTEND;TZID=America/Sao_Paulo:20170417T220000
DTSTAMP:20260423T225642
CREATED:20170317T055628Z
LAST-MODIFIED:20170317T055628Z
UID:22573-1492196400-1492466400@adsilvajardim.com.br
SUMMARY:Congresso de Irmãs na Sede
DESCRIPTION:
URL:https://adsilvajardim.com.br/evento/congresso-de-irmas-na-sede/
LOCATION:Assembléia de Deus em Silva Jardim\, Rua Borges Alfradique\, 196\, Centro\, Silva Jardim\, Rio de Janeiro\, 28820-000\, Brasil
END:VEVENT
BEGIN:VEVENT
DTSTART;TZID=America/Sao_Paulo:20170407T190000
DTEND;TZID=America/Sao_Paulo:20170409T220000
DTSTAMP:20260423T225642
CREATED:20170317T055246Z
LAST-MODIFIED:20170317T055246Z
UID:22571-1491591600-1491775200@adsilvajardim.com.br
SUMMARY:Festa de Crianças em Coqueiro
DESCRIPTION:
URL:https://adsilvajardim.com.br/evento/festa-de-criancas-em-coqueiro/
LOCATION:Rio de Janeiro
END:VEVENT
BEGIN:VEVENT
DTSTART;TZID=America/Sao_Paulo:20170407T190000
DTEND;TZID=America/Sao_Paulo:20170409T220000
DTSTAMP:20260423T225642
CREATED:20170317T055053Z
LAST-MODIFIED:20170317T055053Z
UID:22569-1491591600-1491775200@adsilvajardim.com.br
SUMMARY:Festa de Jovens em Lucilândia
DESCRIPTION:
URL:https://adsilvajardim.com.br/evento/festa-de-jovens-em-lucilandia/
LOCATION:Assembléia de Deus em Lucilândia\, Silva Jardim\, Rio de Janeiro\, 28820-000\, Brasil
END:VEVENT
BEGIN:VEVENT
DTSTART;TZID=America/Sao_Paulo:20170331T190000
DTEND;TZID=America/Sao_Paulo:20170402T220000
DTSTAMP:20260423T225642
CREATED:20170317T054905Z
LAST-MODIFIED:20170317T054905Z
UID:22567-1490986800-1491170400@adsilvajardim.com.br
SUMMARY:Festa de Crianças em Mato Alto
DESCRIPTION:
URL:https://adsilvajardim.com.br/evento/festa-de-criancas-em-mato-alto/
LOCATION:Assembléia de Deus em Mato Alto\, Silva Jardim\, Rio de Janeiro\, 28820-000\, Brasil
END:VEVENT
BEGIN:VEVENT
DTSTART;TZID=America/Sao_Paulo:20170331T190000
DTEND;TZID=America/Sao_Paulo:20170402T220000
DTSTAMP:20260423T225642
CREATED:20170317T054627Z
LAST-MODIFIED:20170317T054627Z
UID:22565-1490986800-1491170400@adsilvajardim.com.br
SUMMARY:Festa de Irmãs em Correntezas
DESCRIPTION:
URL:https://adsilvajardim.com.br/evento/festa-de-irmas-em-correntezas/
LOCATION:Igreja Assembléia de Deus em Correntezas\, SIlva Jardim\, Rio de Janeiro\, 28820-000\, Brasil
END:VEVENT
BEGIN:VEVENT
DTSTART;TZID=America/Sao_Paulo:20170324T190000
DTEND;TZID=America/Sao_Paulo:20170326T220000
DTSTAMP:20260423T225642
CREATED:20170126T135835Z
LAST-MODIFIED:20170126T135835Z
UID:22558-1490382000-1490565600@adsilvajardim.com.br
SUMMARY:Aniversário do Templo e dos Homens em Fazenda Brasil
DESCRIPTION:
URL:https://adsilvajardim.com.br/evento/aniversario-do-templo-e-dos-homens-em-fazenda-brasil/
LOCATION:Assembléia de Deus em Fazenda Brasil\, Fazenda Brasil\, Silva Jardim\, Rio de Janeiro\, 28820-000\, Brasil
END:VEVENT
BEGIN:VEVENT
DTSTART;TZID=America/Sao_Paulo:20170321T190000
DTEND;TZID=America/Sao_Paulo:20170321T220000
DTSTAMP:20260423T225642
CREATED:20170126T135550Z
LAST-MODIFIED:20170126T135550Z
UID:22556-1490122800-1490133600@adsilvajardim.com.br
SUMMARY:Projeto Comunhão - Ceia Geral na Sede
DESCRIPTION:
URL:https://adsilvajardim.com.br/evento/projeto-comunhao-ceia-geral-na-sede/
LOCATION:Assembléia de Deus em Silva Jardim\, Rua Borges Alfradique\, 196\, Centro\, Silva Jardim\, Rio de Janeiro\, 28820-000\, Brasil
END:VEVENT
BEGIN:VEVENT
DTSTART;TZID=America/Sao_Paulo:20170317T190000
DTEND;TZID=America/Sao_Paulo:20170319T220000
DTSTAMP:20260423T225642
CREATED:20170126T135335Z
LAST-MODIFIED:20170126T135335Z
UID:22553-1489777200-1489960800@adsilvajardim.com.br
SUMMARY:Festa de Jovens na Biquinha
DESCRIPTION:
URL:https://adsilvajardim.com.br/evento/festa-de-jovens-na-biquinha/
LOCATION:Assembléia de Deus em Biquinha\, Biq\, Biquinha\, Rio de Janeiro\, 28820-000
END:VEVENT
BEGIN:VEVENT
DTSTART;TZID=America/Sao_Paulo:20170317T190000
DTEND;TZID=America/Sao_Paulo:20170319T220000
DTSTAMP:20260423T225642
CREATED:20170126T134951Z
LAST-MODIFIED:20170126T135016Z
UID:22550-1489777200-1489960800@adsilvajardim.com.br
SUMMARY:Festa de Crianças em Cesário Alvim
DESCRIPTION:
URL:https://adsilvajardim.com.br/evento/festa-de-criancas-em-cesario-alvim/
LOCATION:Assembléia de Deus em Cesário Alvim\, Cesário Alvim\, Silva Jardim\, Rio de Janeiro\, 28820-000\, Brasil
END:VEVENT
BEGIN:VEVENT
DTSTART;TZID=America/Sao_Paulo:20170310T190000
DTEND;TZID=America/Sao_Paulo:20170312T220000
DTSTAMP:20260423T225642
CREATED:20170126T134334Z
LAST-MODIFIED:20170126T134508Z
UID:22548-1489172400-1489356000@adsilvajardim.com.br
SUMMARY:Aniversário do Templo e dos Homens em Cidade Nova
DESCRIPTION:
URL:https://adsilvajardim.com.br/evento/aniversario-do-templo-e-dos-homens-em-cidade-nova/
LOCATION:Assembleia de Deus em Cidade Nova\, Cidade Nova\, Silva Jardim\, Rio de Janeiro\, 28820-000\, Brasil
END:VEVENT
BEGIN:VEVENT
DTSTART;TZID=America/Sao_Paulo:20170303T190000
DTEND;TZID=America/Sao_Paulo:20170305T220000
DTSTAMP:20260423T225642
CREATED:20170126T133940Z
LAST-MODIFIED:20170126T133940Z
UID:22545-1488567600-1488751200@adsilvajardim.com.br
SUMMARY:Aniversário do Templo e de Homens em Boqueirão
DESCRIPTION:
URL:https://adsilvajardim.com.br/evento/aniversario-do-templo-e-de-homens-em-boqueirao/
LOCATION:Assembléia de Deus em Boqueirão\, Boqueirão\, Silva Jardim\, Rio de Janeiro\, 28820-000\, Brasil
END:VEVENT
BEGIN:VEVENT
DTSTART;TZID=America/Sao_Paulo:20170217T190000
DTEND;TZID=America/Sao_Paulo:20170219T220000
DTSTAMP:20260423T225642
CREATED:20170126T133440Z
LAST-MODIFIED:20170126T133440Z
UID:22542-1487358000-1487541600@adsilvajardim.com.br
SUMMARY:Festa de Irmãs em Cambucais
DESCRIPTION:
URL:https://adsilvajardim.com.br/evento/festa-de-irmas-em-cambucais/
LOCATION:Assembleia de Deus em Cambucais\, Cambucais\, Silva Jardim\, Rio de Janeiro\, 28820-000\, Brasil
END:VEVENT
BEGIN:VEVENT
DTSTART;TZID=America/Sao_Paulo:20170210T190000
DTEND;TZID=America/Sao_Paulo:20170212T220000
DTSTAMP:20260423T225642
CREATED:20170111T171056Z
LAST-MODIFIED:20170111T171056Z
UID:22532-1486753200-1486936800@adsilvajardim.com.br
SUMMARY:Aniversário do Templo e dos Homens no Caxito
DESCRIPTION:
URL:https://adsilvajardim.com.br/evento/aniversario-do-templo-e-dos-homens-no-caxito/
LOCATION:Assembléia de Deus em Caxito\, Silva Jardim\, Rio de Janeiro\, 28820-000
END:VEVENT
BEGIN:VEVENT
DTSTART;TZID=America/Sao_Paulo:20170203T190000
DTEND;TZID=America/Sao_Paulo:20170205T220000
DTSTAMP:20260423T225642
CREATED:20170111T170638Z
LAST-MODIFIED:20170126T132918Z
UID:22528-1486148400-1486332000@adsilvajardim.com.br
SUMMARY:Festa de Irmãs em Mato Alto
DESCRIPTION:
URL:https://adsilvajardim.com.br/evento/festa-de-irmaes-em-mato-alto/
LOCATION:Assembléia de Deus em Mato Alto\, Silva Jardim\, Rio de Janeiro\, 28820-000\, Brasil
END:VEVENT
BEGIN:VEVENT
DTSTART;VALUE=DATE:20170129
DTEND;VALUE=DATE:20170130
DTSTAMP:20260423T225642
CREATED:20170111T170430Z
LAST-MODIFIED:20170111T170430Z
UID:22526-1485648000-1485734399@adsilvajardim.com.br
SUMMARY:Batismo na Sede
DESCRIPTION:
URL:https://adsilvajardim.com.br/evento/batismo-na-sede/
LOCATION:Assembléia de Deus em Silva Jardim\, Rua Borges Alfradique\, 196\, Centro\, Silva Jardim\, Rio de Janeiro\, 28820-000\, Brasil
END:VEVENT
BEGIN:VEVENT
DTSTART;TZID=America/Sao_Paulo:20170127T190000
DTEND;TZID=America/Sao_Paulo:20170129T220000
DTSTAMP:20260423T225642
CREATED:20170111T170230Z
LAST-MODIFIED:20170111T170230Z
UID:22523-1485543600-1485727200@adsilvajardim.com.br
SUMMARY:Aniversário do Templo / Homens
DESCRIPTION:
URL:https://adsilvajardim.com.br/evento/aniversario-do-templo-homens/
LOCATION:Igreja Assembléia de Deus em Correntezas\, SIlva Jardim\, Rio de Janeiro\, 28820-000\, Brasil
END:VEVENT
BEGIN:VEVENT
DTSTART;TZID=America/Sao_Paulo:20170120T190000
DTEND;TZID=America/Sao_Paulo:20170123T220000
DTSTAMP:20260423T225642
CREATED:20170111T165803Z
LAST-MODIFIED:20170111T165803Z
UID:22520-1484938800-1485208800@adsilvajardim.com.br
SUMMARY:Cruzada em Lucilândia
DESCRIPTION:
URL:https://adsilvajardim.com.br/evento/cruzada-em-lucilandia/
LOCATION:Assembléia de Deus em Lucilândia\, Silva Jardim\, Rio de Janeiro\, 28820-000\, Brasil
END:VEVENT
BEGIN:VEVENT
DTSTART;TZID=America/Sao_Paulo:20161210T200000
DTEND;TZID=America/Sao_Paulo:20161111T230000
DTSTAMP:20260423T225642
CREATED:20161206T131923Z
LAST-MODIFIED:20161206T131923Z
UID:22454-1481400000-1478905200@adsilvajardim.com.br
SUMMARY:Orquestra Levitas do Senhor 16 Anos
DESCRIPTION:
URL:https://adsilvajardim.com.br/evento/16-anos-levitas-do-senhor/
LOCATION:Assembléia de Deus em Silva Jardim\, Rua Borges Alfradique\, 196\, Centro\, Silva Jardim\, Rio de Janeiro\, 28820-000\, Brasil
ATTACH;FMTTYPE=image/jpeg:https://adsilvajardim.com.br/wp-content/uploads/2016/12/orquestra.jpeg
END:VEVENT
BEGIN:VEVENT
DTSTART;TZID=America/Sao_Paulo:20161104T190000
DTEND;TZID=America/Sao_Paulo:20161108T220000
DTSTAMP:20260423T225642
CREATED:20161029T135105Z
LAST-MODIFIED:20161102T233407Z
UID:22457-1478286000-1478642400@adsilvajardim.com.br
SUMMARY:Congresso de Jovens
DESCRIPTION:
URL:https://adsilvajardim.com.br/evento/congresso-de-jovens/
LOCATION:Assembléia de Deus em Silva Jardim\, Rua Borges Alfradique\, 196\, Centro\, Silva Jardim\, Rio de Janeiro\, 28820-000\, Brasil
END:VEVENT
BEGIN:VEVENT
DTSTART;TZID=America/Sao_Paulo:20150802T190000
DTEND;TZID=America/Sao_Paulo:20150809T220000
DTSTAMP:20260423T225642
CREATED:20150603T001330Z
LAST-MODIFIED:20150708T190407Z
UID:22226-1438542000-1439157600@adsilvajardim.com.br
SUMMARY:Congresso da UHADSJ e UFADSJ 2015
DESCRIPTION:
URL:https://adsilvajardim.com.br/evento/festa-dos-jovens-na-assembleia-de-deus-em-cidade-nova-2/
LOCATION:Assembléia de Deus em Silva Jardim\, Rua Borges Alfradique\, 196\, Centro\, Silva Jardim\, Rio de Janeiro\, 28820-000\, Brasil
END:VEVENT
END:VCALENDAR