BEGIN:VCALENDAR
VERSION:2.0
PRODID:-//.:Assembleia de Deus em Silva Jardim - Ministério Só Vitória! - ECPv6.13.2.1//NONSGML v1.0//EN
CALSCALE:GREGORIAN
METHOD:PUBLISH
X-WR-CALNAME:.:Assembleia de Deus em Silva Jardim - Ministério Só Vitória!
X-ORIGINAL-URL:https://adsilvajardim.com.br
X-WR-CALDESC:Eventos para .:Assembleia de Deus em Silva Jardim - Ministério Só Vitória!
REFRESH-INTERVAL;VALUE=DURATION:PT1H
X-Robots-Tag:noindex
X-PUBLISHED-TTL:PT1H
BEGIN:VTIMEZONE
TZID:America/Sao_Paulo
BEGIN:STANDARD
TZOFFSETFROM:-0200
TZOFFSETTO:-0300
TZNAME:-03
DTSTART:20170219T020000
END:STANDARD
BEGIN:DAYLIGHT
TZOFFSETFROM:-0300
TZOFFSETTO:-0200
TZNAME:-02
DTSTART:20171015T030000
END:DAYLIGHT
BEGIN:STANDARD
TZOFFSETFROM:-0200
TZOFFSETTO:-0300
TZNAME:-03
DTSTART:20180218T020000
END:STANDARD
BEGIN:DAYLIGHT
TZOFFSETFROM:-0300
TZOFFSETTO:-0200
TZNAME:-02
DTSTART:20181104T030000
END:DAYLIGHT
BEGIN:STANDARD
TZOFFSETFROM:-0200
TZOFFSETTO:-0300
TZNAME:-03
DTSTART:20190217T020000
END:STANDARD
END:VTIMEZONE
BEGIN:VEVENT
DTSTART;TZID=America/Sao_Paulo:20190419T190000
DTEND;TZID=America/Sao_Paulo:20190421T220000
DTSTAMP:20260423T203510
CREATED:20190306T182503Z
LAST-MODIFIED:20190306T182503Z
UID:22982-1555700400-1555884000@adsilvajardim.com.br
SUMMARY:Festa das Crianças em Caxito
DESCRIPTION:
URL:https://adsilvajardim.com.br/evento/festa-das-criancas-em-caxito/
LOCATION:Assembléia de Deus em Caxito\, Silva Jardim\, Rio de Janeiro\, 28820-000
END:VEVENT
BEGIN:VEVENT
DTSTART;TZID=America/Sao_Paulo:20190419T190000
DTEND;TZID=America/Sao_Paulo:20190421T220000
DTSTAMP:20260423T203510
CREATED:20190306T181756Z
LAST-MODIFIED:20190306T181756Z
UID:22980-1555700400-1555884000@adsilvajardim.com.br
SUMMARY:Festa dos Jovens em Lucilândia
DESCRIPTION:
URL:https://adsilvajardim.com.br/evento/festa-dos-jovens-em-lucilandia/
LOCATION:Assembléia de Deus em Lucilândia\, Silva Jardim\, Rio de Janeiro\, 28820-000\, Brasil
END:VEVENT
BEGIN:VEVENT
DTSTART;TZID=America/Sao_Paulo:20190412T190000
DTEND;TZID=America/Sao_Paulo:20190414T220000
DTSTAMP:20260423T203510
CREATED:20190306T181517Z
LAST-MODIFIED:20190306T181517Z
UID:22978-1555095600-1555279200@adsilvajardim.com.br
SUMMARY:Festa das Crianças em Coqueiros
DESCRIPTION:
URL:https://adsilvajardim.com.br/evento/festa-das-criancas-em-coqueiros/
LOCATION:Assembleia de Deus em Coqueiro\, Coqueiro\, Silva Jardim\, Rio de Janeiro\, 28820-000\, Brazil
END:VEVENT
BEGIN:VEVENT
DTSTART;TZID=America/Sao_Paulo:20190412T190000
DTEND;TZID=America/Sao_Paulo:20190414T220000
DTSTAMP:20260423T203510
CREATED:20190306T181355Z
LAST-MODIFIED:20190306T181355Z
UID:22977-1555095600-1555279200@adsilvajardim.com.br
SUMMARY:Encontro de Casais - Sede
DESCRIPTION:
URL:https://adsilvajardim.com.br/evento/encontro-de-casais-sede/
LOCATION:Assembléia de Deus em Silva Jardim\, Rua Borges Alfradique\, 196\, Centro\, Silva Jardim\, Rio de Janeiro\, 28820-000\, Brasil
END:VEVENT
BEGIN:VEVENT
DTSTART;TZID=America/Sao_Paulo:20190405T190000
DTEND;TZID=America/Sao_Paulo:20190408T220000
DTSTAMP:20260423T203510
CREATED:20190306T181139Z
LAST-MODIFIED:20190306T181139Z
UID:22975-1554490800-1554760800@adsilvajardim.com.br
SUMMARY:Congresso de Irmãs na Sede
DESCRIPTION:
URL:https://adsilvajardim.com.br/evento/congresso-de-irmas-na-sede-2/
LOCATION:Assembléia de Deus em Silva Jardim\, Rua Borges Alfradique\, 196\, Centro\, Silva Jardim\, Rio de Janeiro\, 28820-000\, Brasil
END:VEVENT
BEGIN:VEVENT
DTSTART;TZID=America/Sao_Paulo:20190330T190000
DTEND;TZID=America/Sao_Paulo:20190331T220000
DTSTAMP:20260423T203510
CREATED:20190306T180852Z
LAST-MODIFIED:20190306T180852Z
UID:22973-1553972400-1554069600@adsilvajardim.com.br
SUMMARY:Festa das Crianças em Mato Alto
DESCRIPTION:
URL:https://adsilvajardim.com.br/evento/festa-das-criancas-em-mato-alto/
LOCATION:Assembléia de Deus em Mato Alto\, Silva Jardim\, Rio de Janeiro\, 28820-000\, Brasil
END:VEVENT
BEGIN:VEVENT
DTSTART;TZID=America/Sao_Paulo:20190329T190000
DTEND;TZID=America/Sao_Paulo:20190331T220000
DTSTAMP:20260423T203510
CREATED:20190306T180713Z
LAST-MODIFIED:20190306T180713Z
UID:22970-1553886000-1554069600@adsilvajardim.com.br
SUMMARY:Festa do Templo e de Homens em Fazenda Brasil
DESCRIPTION:
URL:https://adsilvajardim.com.br/evento/festa-do-templo-e-de-homens-em-fazenda-brasil/
LOCATION:Assembléia de Deus em Fazenda Brasil\, Fazenda Brasil\, Silva Jardim\, Rio de Janeiro\, 28820-000\, Brasil
END:VEVENT
BEGIN:VEVENT
DTSTART;TZID=America/Sao_Paulo:20190322T190000
DTEND;TZID=America/Sao_Paulo:20190324T220000
DTSTAMP:20260423T203510
CREATED:20190306T180231Z
LAST-MODIFIED:20190306T180231Z
UID:22967-1553281200-1553464800@adsilvajardim.com.br
SUMMARY:Festa do Templo e Homens em Cidade Nova
DESCRIPTION:
URL:https://adsilvajardim.com.br/evento/festa-do-templo-e-homens-em-cidade-nova/
LOCATION:Assembleia de Deus em Cidade Nova\, Cidade Nova\, Silva Jardim\, Rio de Janeiro\, 28820-000\, Brasil
END:VEVENT
BEGIN:VEVENT
DTSTART;TZID=America/Sao_Paulo:20190319T190000
DTEND;TZID=America/Sao_Paulo:20190319T220000
DTSTAMP:20260423T203510
CREATED:20190306T180539Z
LAST-MODIFIED:20190306T180539Z
UID:22969-1553022000-1553032800@adsilvajardim.com.br
SUMMARY:Projeto Comunhão Ceia Geral
DESCRIPTION:
URL:https://adsilvajardim.com.br/evento/projeto-comunhao-ceia-geral-2/
LOCATION:Assembléia de Deus em Silva Jardim\, Rua Borges Alfradique\, 196\, Centro\, Silva Jardim\, Rio de Janeiro\, 28820-000\, Brasil
END:VEVENT
BEGIN:VEVENT
DTSTART;TZID=America/Sao_Paulo:20190315T190000
DTEND;TZID=America/Sao_Paulo:20190317T220000
DTSTAMP:20260423T203510
CREATED:20190306T165732Z
LAST-MODIFIED:20190306T165732Z
UID:22965-1552676400-1552860000@adsilvajardim.com.br
SUMMARY:Festa de Jovens na Biquinha
DESCRIPTION:
URL:https://adsilvajardim.com.br/evento/festa-de-jovens-na-biquinha-2/
LOCATION:Assembléia de Deus em Biquinha\, Biq\, Biquinha\, Rio de Janeiro\, 28820-000
END:VEVENT
BEGIN:VEVENT
DTSTART;TZID=America/Sao_Paulo:20190315T190000
DTEND;TZID=America/Sao_Paulo:20190317T220000
DTSTAMP:20260423T203510
CREATED:20190306T165443Z
LAST-MODIFIED:20190306T165443Z
UID:22963-1552676400-1552860000@adsilvajardim.com.br
SUMMARY:Festa de Crianças em Cesário Alvim
DESCRIPTION:
URL:https://adsilvajardim.com.br/evento/festa-de-criancas-em-cesario-alvim-2/
LOCATION:Assembléia de Deus em Cesário Alvim\, Cesário Alvim\, Silva Jardim\, Rio de Janeiro\, 28820-000\, Brasil
END:VEVENT
BEGIN:VEVENT
DTSTART;TZID=America/Sao_Paulo:20190308T190000
DTEND;TZID=America/Sao_Paulo:20190310T220000
DTSTAMP:20260423T203510
CREATED:20190306T165037Z
LAST-MODIFIED:20190306T165037Z
UID:22961-1552071600-1552255200@adsilvajardim.com.br
SUMMARY:Aniversário do Templo e de Homens em Boqueirão
DESCRIPTION:
URL:https://adsilvajardim.com.br/evento/aniversario-do-templo-e-de-homens-em-boqueirao-2/
LOCATION:Assembléia de Deus em Boqueirão\, Boqueirão\, Silva Jardim\, Rio de Janeiro\, 28820-000\, Brasil
END:VEVENT
BEGIN:VEVENT
DTSTART;TZID=America/Sao_Paulo:20190215T190000
DTEND;TZID=America/Sao_Paulo:20190217T220000
DTSTAMP:20260423T203511
CREATED:20190216T041102Z
LAST-MODIFIED:20190216T041104Z
UID:22935-1550257200-1550440800@adsilvajardim.com.br
SUMMARY:Congresso de Família
DESCRIPTION:
URL:https://adsilvajardim.com.br/evento/congresso-de-familia/
LOCATION:Assembléia de Deus em Silva Jardim\, Rua Borges Alfradique\, 196\, Centro\, Silva Jardim\, Rio de Janeiro\, 28820-000\, Brasil
ATTACH;FMTTYPE=image/jpeg:https://adsilvajardim.com.br/wp-content/uploads/2019/02/congresso-familia-2019.jpeg
END:VEVENT
BEGIN:VEVENT
DTSTART;TZID=America/Sao_Paulo:20180922T190000
DTEND;TZID=America/Sao_Paulo:20180924T220000
DTSTAMP:20260423T203511
CREATED:20190214T020016Z
LAST-MODIFIED:20190216T041437Z
UID:22637-1537642800-1537826400@adsilvajardim.com.br
SUMMARY:Festa de Jovens no Caxito
DESCRIPTION:
URL:https://adsilvajardim.com.br/evento/festa-de-jovens-no-caxito/
LOCATION:Assembléia de Deus em Caxito\, Silva Jardim\, Rio de Janeiro\, 28820-000
END:VEVENT
BEGIN:VEVENT
DTSTART;TZID=America/Sao_Paulo:20170922T190000
DTEND;TZID=America/Sao_Paulo:20170924T220000
DTSTAMP:20260423T203511
CREATED:20170728T025812Z
LAST-MODIFIED:20170728T025812Z
UID:22635-1506106800-1506290400@adsilvajardim.com.br
SUMMARY:Festa de Crianças em Cidade Nova
DESCRIPTION:
URL:https://adsilvajardim.com.br/evento/festa-de-criancas-em-cidade-nova/
LOCATION:Assembleia de Deus em Cidade Nova\, Cidade Nova\, Silva Jardim\, Rio de Janeiro\, 28820-000\, Brasil
END:VEVENT
BEGIN:VEVENT
DTSTART;TZID=America/Sao_Paulo:20170915T190000
DTEND;TZID=America/Sao_Paulo:20170917T220000
DTSTAMP:20260423T203511
CREATED:20170728T025630Z
LAST-MODIFIED:20170728T025630Z
UID:22633-1505502000-1505685600@adsilvajardim.com.br
SUMMARY:Congresso de Crianças na Sede
DESCRIPTION:
URL:https://adsilvajardim.com.br/evento/congresso-de-criancas-na-sede/
LOCATION:Assembléia de Deus em Silva Jardim\, Rua Borges Alfradique\, 196\, Centro\, Silva Jardim\, Rio de Janeiro\, 28820-000\, Brasil
END:VEVENT
BEGIN:VEVENT
DTSTART;TZID=America/Sao_Paulo:20170908T190000
DTEND;TZID=America/Sao_Paulo:20170910T220000
DTSTAMP:20260423T203511
CREATED:20170728T025434Z
LAST-MODIFIED:20170728T025434Z
UID:22631-1504897200-1505080800@adsilvajardim.com.br
SUMMARY:Festa de Crianças em Lucilândia
DESCRIPTION:
URL:https://adsilvajardim.com.br/evento/festa-de-criancas-em-lucilandia/
LOCATION:Assembléia de Deus em Lucilândia\, Silva Jardim\, Rio de Janeiro\, 28820-000\, Brasil
END:VEVENT
BEGIN:VEVENT
DTSTART;TZID=America/Sao_Paulo:20170908T190000
DTEND;TZID=America/Sao_Paulo:20170910T220000
DTSTAMP:20260423T203511
CREATED:20170728T025234Z
LAST-MODIFIED:20170728T025234Z
UID:22629-1504897200-1505080800@adsilvajardim.com.br
SUMMARY:Festa de Irmãs em Cesário Alvim
DESCRIPTION:
URL:https://adsilvajardim.com.br/evento/festa-de-irmas-em-cesario-alvim/
LOCATION:Assembléia de Deus em Cesário Alvim\, Cesário Alvim\, Silva Jardim\, Rio de Janeiro\, 28820-000\, Brasil
END:VEVENT
BEGIN:VEVENT
DTSTART;TZID=America/Sao_Paulo:20170901T190000
DTEND;TZID=America/Sao_Paulo:20170904T220000
DTSTAMP:20260423T203511
CREATED:20170728T024852Z
LAST-MODIFIED:20170728T024852Z
UID:22625-1504292400-1504562400@adsilvajardim.com.br
SUMMARY:Festa de Crianças em Boqueirão
DESCRIPTION:
URL:https://adsilvajardim.com.br/evento/festa-de-criancas-em-boqueirao/
LOCATION:Assembléia de Deus em Boqueirão\, Boqueirão\, Silva Jardim\, Rio de Janeiro\, 28820-000\, Brasil
END:VEVENT
BEGIN:VEVENT
DTSTART;TZID=America/Sao_Paulo:20170825T190000
DTEND;TZID=America/Sao_Paulo:20170827T220000
DTSTAMP:20260423T203511
CREATED:20170728T024515Z
LAST-MODIFIED:20170728T024515Z
UID:22621-1503687600-1503871200@adsilvajardim.com.br
SUMMARY:Festa de Irmãs na Lagoa de Juturnaíba
DESCRIPTION:
URL:https://adsilvajardim.com.br/evento/festa-de-irmas-na-lagoa-de-juturnaiba/
LOCATION:Rio de Janeiro
END:VEVENT
BEGIN:VEVENT
DTSTART;TZID=America/Sao_Paulo:20170818T190000
DTEND;TZID=America/Sao_Paulo:20170820T220000
DTSTAMP:20260423T203511
CREATED:20170728T024319Z
LAST-MODIFIED:20170728T024319Z
UID:22619-1503082800-1503266400@adsilvajardim.com.br
SUMMARY:Festa de Jovens na Fazenda Brasil
DESCRIPTION:
URL:https://adsilvajardim.com.br/evento/festa-de-jovens-na-fazenda-brasil/
LOCATION:Assembléia de Deus em Fazenda Brasil\, Fazenda Brasil\, Silva Jardim\, Rio de Janeiro\, 28820-000\, Brasil
END:VEVENT
BEGIN:VEVENT
DTSTART;TZID=America/Sao_Paulo:20170818T190000
DTEND;TZID=America/Sao_Paulo:20170820T220000
DTSTAMP:20260423T203511
CREATED:20170728T024023Z
LAST-MODIFIED:20170728T024023Z
UID:22617-1503082800-1503266400@adsilvajardim.com.br
SUMMARY:Festa de Irmãs em Varginha
DESCRIPTION:
URL:https://adsilvajardim.com.br/evento/festa-de-irmas-em-varginha/
LOCATION:Assembleia de Deus em Varginha\, Varginha\, Silva Jardim\, RJ\, 28820000\, Brasil
END:VEVENT
BEGIN:VEVENT
DTSTART;TZID=America/Sao_Paulo:20170815T190000
DTEND;TZID=America/Sao_Paulo:20170815T220000
DTSTAMP:20260423T203511
CREATED:20170728T023801Z
LAST-MODIFIED:20170728T023801Z
UID:22615-1502823600-1502834400@adsilvajardim.com.br
SUMMARY:Projeto Comunhão - Ceia Geral
DESCRIPTION:
URL:https://adsilvajardim.com.br/evento/projeto-comunhao-ceia-geral/
LOCATION:Assembléia de Deus em Silva Jardim\, Rua Borges Alfradique\, 196\, Centro\, Silva Jardim\, Rio de Janeiro\, 28820-000\, Brasil
END:VEVENT
BEGIN:VEVENT
DTSTART;TZID=America/Sao_Paulo:20170811T190000
DTEND;TZID=America/Sao_Paulo:20170813T220000
DTSTAMP:20260423T203511
CREATED:20170728T023533Z
LAST-MODIFIED:20170728T023533Z
UID:22613-1502478000-1502661600@adsilvajardim.com.br
SUMMARY:Festa de Irmãs na Biquinha
DESCRIPTION:
URL:https://adsilvajardim.com.br/evento/festa-de-irmas-na-biquinha/
LOCATION:Assembléia de Deus em Biquinha\, Biq\, Biquinha\, Rio de Janeiro\, 28820-000
END:VEVENT
BEGIN:VEVENT
DTSTART;TZID=America/Sao_Paulo:20170804T190000
DTEND;TZID=America/Sao_Paulo:20170806T220000
DTSTAMP:20260423T203511
CREATED:20170728T015224Z
LAST-MODIFIED:20170728T023309Z
UID:22609-1501873200-1502056800@adsilvajardim.com.br
SUMMARY:Festa de Jovens no Coqueiro
DESCRIPTION:
URL:https://adsilvajardim.com.br/evento/festa-de-jovens-no-coqueiro/
LOCATION:Assembleia de Deus em Coqueiro\, Coqueiro\, Silva Jardim\, Rio de Janeiro\, 28820-000\, Brazil
END:VEVENT
BEGIN:VEVENT
DTSTART;TZID=America/Sao_Paulo:20170729T190000
DTEND;TZID=America/Sao_Paulo:20170729T220000
DTSTAMP:20260423T203511
CREATED:20170728T024722Z
LAST-MODIFIED:20170728T024722Z
UID:22623-1501354800-1501365600@adsilvajardim.com.br
SUMMARY:Aniversário do Pastor Moises Cecilio
DESCRIPTION:
URL:https://adsilvajardim.com.br/evento/aniversario-do-pastor-moises-cecilio/
LOCATION:Assembléia de Deus em Silva Jardim\, Rua Borges Alfradique\, 196\, Centro\, Silva Jardim\, Rio de Janeiro\, 28820-000\, Brasil
END:VEVENT
BEGIN:VEVENT
DTSTART;TZID=America/Sao_Paulo:20170729T080000
DTEND;TZID=America/Sao_Paulo:20170729T120000
DTSTAMP:20260423T203511
CREATED:20170728T025015Z
LAST-MODIFIED:20170728T025015Z
UID:22627-1501315200-1501329600@adsilvajardim.com.br
SUMMARY:Batismo na Sede
DESCRIPTION:
URL:https://adsilvajardim.com.br/evento/batismo-na-sede-2/
LOCATION:Assembléia de Deus em Silva Jardim\, Rua Borges Alfradique\, 196\, Centro\, Silva Jardim\, Rio de Janeiro\, 28820-000\, Brasil
END:VEVENT
BEGIN:VEVENT
DTSTART;TZID=America/Sao_Paulo:20170728T190000
DTEND;TZID=America/Sao_Paulo:20170731T220000
DTSTAMP:20260423T203511
CREATED:20170728T014113Z
LAST-MODIFIED:20170728T022952Z
UID:22607-1501268400-1501538400@adsilvajardim.com.br
SUMMARY:Aniversário do Templo e dos Homens Na SEDE
DESCRIPTION:
URL:https://adsilvajardim.com.br/evento/aniversario-do-templo-e-dos-homens-na-sede/
LOCATION:Assembléia de Deus em Silva Jardim\, Rua Borges Alfradique\, 196\, Centro\, Silva Jardim\, Rio de Janeiro\, 28820-000\, Brasil
END:VEVENT
BEGIN:VEVENT
DTSTART;TZID=America/Sao_Paulo:20170428T190000
DTEND;TZID=America/Sao_Paulo:20170430T220000
DTSTAMP:20260423T203511
CREATED:20170317T060425Z
LAST-MODIFIED:20170317T060425Z
UID:22582-1493406000-1493589600@adsilvajardim.com.br
SUMMARY:Festa de Crianças no Caxito
DESCRIPTION:
URL:https://adsilvajardim.com.br/evento/festa-de-criancas-no-caxito/
LOCATION:Assembléia de Deus em Caxito\, Silva Jardim\, Rio de Janeiro\, 28820-000
END:VEVENT
BEGIN:VEVENT
DTSTART;TZID=America/Sao_Paulo:20170421T190000
DTEND;TZID=America/Sao_Paulo:20170423T220000
DTSTAMP:20260423T203511
CREATED:20170317T060237Z
LAST-MODIFIED:20170317T060237Z
UID:22578-1492801200-1492984800@adsilvajardim.com.br
SUMMARY:Aniversário do Templo e de Homens em Lagoa de Juturnaiba
DESCRIPTION:
URL:https://adsilvajardim.com.br/evento/aniversario-do-templo-e-de-homens-em-lagoa-de-juturnaiba/
LOCATION:Assembleia de Deus em Lagoa de Juturnaiba\, Juturnaiba\, Silva Jardim\, RJ\, 28820000\, Brasil
END:VEVENT
END:VCALENDAR