BEGIN:VCALENDAR
VERSION:2.0
PRODID:-//.:Assembleia de Deus em Silva Jardim - Ministério Só Vitória! - ECPv6.13.2.1//NONSGML v1.0//EN
CALSCALE:GREGORIAN
METHOD:PUBLISH
X-WR-CALNAME:.:Assembleia de Deus em Silva Jardim - Ministério Só Vitória!
X-ORIGINAL-URL:https://adsilvajardim.com.br
X-WR-CALDESC:Eventos para .:Assembleia de Deus em Silva Jardim - Ministério Só Vitória!
REFRESH-INTERVAL;VALUE=DURATION:PT1H
X-Robots-Tag:noindex
X-PUBLISHED-TTL:PT1H
BEGIN:VTIMEZONE
TZID:America/Sao_Paulo
BEGIN:STANDARD
TZOFFSETFROM:-0200
TZOFFSETTO:-0300
TZNAME:-03
DTSTART:20190217T020000
END:STANDARD
END:VTIMEZONE
BEGIN:VEVENT
DTSTART;VALUE=DATE:20190727
DTEND;VALUE=DATE:20190728
DTSTAMP:20260423T173918
CREATED:20190306T191946Z
LAST-MODIFIED:20190306T191949Z
UID:23033-1564185600-1564271999@adsilvajardim.com.br
SUMMARY:Batismo Sede
DESCRIPTION:
URL:https://adsilvajardim.com.br/evento/batismo-sede/
LOCATION:Assembléia de Deus em Silva Jardim\, Rua Borges Alfradique\, 196\, Centro\, Silva Jardim\, Rio de Janeiro\, 28820-000\, Brasil
END:VEVENT
BEGIN:VEVENT
DTSTART;TZID=America/Sao_Paulo:20190726T190000
DTEND;TZID=America/Sao_Paulo:20190729T220000
DTSTAMP:20260423T173918
CREATED:20190306T192258Z
LAST-MODIFIED:20190306T192259Z
UID:23035-1564167600-1564437600@adsilvajardim.com.br
SUMMARY:Aniversário do Templo e dos Homens na Sede
DESCRIPTION:
URL:https://adsilvajardim.com.br/evento/aniversario-do-templo-e-dos-homens-na-sede-2/
LOCATION:Assembléia de Deus em Silva Jardim\, Rua Borges Alfradique\, 196\, Centro\, Silva Jardim\, Rio de Janeiro\, 28820-000\, Brasil
END:VEVENT
BEGIN:VEVENT
DTSTART;TZID=America/Sao_Paulo:20190719T190000
DTEND;TZID=America/Sao_Paulo:20190721T220000
DTSTAMP:20260423T173918
CREATED:20190306T191838Z
LAST-MODIFIED:20190306T191838Z
UID:23031-1563562800-1563746400@adsilvajardim.com.br
SUMMARY:Aniversário do Templo e dos Homens em Mato Alto
DESCRIPTION:
URL:https://adsilvajardim.com.br/evento/aniversario-do-templo-e-dos-homens-em-mato-alto/
LOCATION:Assembléia de Deus em Mato Alto\, Silva Jardim\, Rio de Janeiro\, 28820-000\, Brasil
END:VEVENT
BEGIN:VEVENT
DTSTART;TZID=America/Sao_Paulo:20190712T190000
DTEND;TZID=America/Sao_Paulo:20190714T220000
DTSTAMP:20260423T173918
CREATED:20190306T191706Z
LAST-MODIFIED:20190306T191706Z
UID:23029-1562958000-1563141600@adsilvajardim.com.br
SUMMARY:Festa de Irmãs em Caxito
DESCRIPTION:
URL:https://adsilvajardim.com.br/evento/festa-de-irmas-em-caxito/
LOCATION:Assembléia de Deus em Caxito\, Silva Jardim\, Rio de Janeiro\, 28820-000
END:VEVENT
BEGIN:VEVENT
DTSTART;TZID=America/Sao_Paulo:20190712T190000
DTEND;TZID=America/Sao_Paulo:20190714T220000
DTSTAMP:20260423T173918
CREATED:20190306T191445Z
LAST-MODIFIED:20190306T191445Z
UID:23028-1562958000-1563141600@adsilvajardim.com.br
SUMMARY:Festa de Jovens em Cambucais
DESCRIPTION:
URL:https://adsilvajardim.com.br/evento/festa-de-jovens-em-cambucais/
LOCATION:Assembleia de Deus em Cambucais\, Cambucais\, Silva Jardim\, Rio de Janeiro\, 28820-000\, Brasil
END:VEVENT
BEGIN:VEVENT
DTSTART;TZID=America/Sao_Paulo:20190705T190000
DTEND;TZID=America/Sao_Paulo:20190707T220000
DTSTAMP:20260423T173918
CREATED:20190306T191303Z
LAST-MODIFIED:20190306T191303Z
UID:23025-1562353200-1562536800@adsilvajardim.com.br
SUMMARY:Festa de Irmãs em Lucilândia
DESCRIPTION:
URL:https://adsilvajardim.com.br/evento/festa-de-irmas-em-lucilandia/
LOCATION:Assembléia de Deus em Lucilândia\, Silva Jardim\, Rio de Janeiro\, 28820-000\, Brasil
END:VEVENT
BEGIN:VEVENT
DTSTART;TZID=America/Sao_Paulo:20190705T190000
DTEND;TZID=America/Sao_Paulo:20190707T220000
DTSTAMP:20260423T173918
CREATED:20190306T191118Z
LAST-MODIFIED:20190306T191118Z
UID:23023-1562353200-1562536800@adsilvajardim.com.br
SUMMARY:Festa dos Jovens em Cidade Nova
DESCRIPTION:
URL:https://adsilvajardim.com.br/evento/festa-dos-jovens-em-cidade-nova/
LOCATION:Assembleia de Deus em Cidade Nova\, Cidade Nova\, Silva Jardim\, Rio de Janeiro\, 28820-000\, Brasil
END:VEVENT
BEGIN:VEVENT
DTSTART;TZID=America/Sao_Paulo:20190628T190000
DTEND;TZID=America/Sao_Paulo:20190630T220000
DTSTAMP:20260423T173918
CREATED:20190306T190820Z
LAST-MODIFIED:20190306T190820Z
UID:23021-1561748400-1561932000@adsilvajardim.com.br
SUMMARY:Aniversário do Templo e dos Homens em Varginha
DESCRIPTION:
URL:https://adsilvajardim.com.br/evento/aniversario-do-templo-e-dos-homens-em-varginha/
LOCATION:Assembleia de Deus em Varginha\, Varginha\, Silva Jardim\, RJ\, 28820000\, Brasil
END:VEVENT
BEGIN:VEVENT
DTSTART;TZID=America/Sao_Paulo:20190621T190000
DTEND;TZID=America/Sao_Paulo:20190623T220000
DTSTAMP:20260423T173918
CREATED:20190306T190639Z
LAST-MODIFIED:20190306T190639Z
UID:23019-1561143600-1561327200@adsilvajardim.com.br
SUMMARY:Festa dos Jovens em Cesário Alvim
DESCRIPTION:
URL:https://adsilvajardim.com.br/evento/festa-dos-jovens-em-cesario-alvim/
LOCATION:Assembléia de Deus em Cesário Alvim\, Cesário Alvim\, Silva Jardim\, Rio de Janeiro\, 28820-000\, Brasil
END:VEVENT
BEGIN:VEVENT
DTSTART;TZID=America/Sao_Paulo:20190621T190000
DTEND;TZID=America/Sao_Paulo:20190623T220000
DTSTAMP:20260423T173918
CREATED:20190306T190440Z
LAST-MODIFIED:20190306T190440Z
UID:23017-1561143600-1561327200@adsilvajardim.com.br
SUMMARY:Festa das Irmãs em Boqueirão
DESCRIPTION:
URL:https://adsilvajardim.com.br/evento/festa-das-irmas-em-boqueirao/
LOCATION:Assembléia de Deus em Boqueirão\, Boqueirão\, Silva Jardim\, Rio de Janeiro\, 28820-000\, Brasil
END:VEVENT
BEGIN:VEVENT
DTSTART;TZID=America/Sao_Paulo:20190618T190000
DTEND;TZID=America/Sao_Paulo:20190618T220000
DTSTAMP:20260423T173918
CREATED:20190306T190233Z
LAST-MODIFIED:20190306T190237Z
UID:23014-1560884400-1560895200@adsilvajardim.com.br
SUMMARY:Projeto Comunhão - Ceia Geral
DESCRIPTION:
URL:https://adsilvajardim.com.br/evento/projeto-comunhao-ceia-geral-3/
LOCATION:Assembléia de Deus em Silva Jardim\, Rua Borges Alfradique\, 196\, Centro\, Silva Jardim\, Rio de Janeiro\, 28820-000\, Brasil
END:VEVENT
BEGIN:VEVENT
DTSTART;TZID=America/Sao_Paulo:20190614T190000
DTEND;TZID=America/Sao_Paulo:20190616T190000
DTSTAMP:20260423T173918
CREATED:20190306T190046Z
LAST-MODIFIED:20190306T190046Z
UID:23012-1560538800-1560711600@adsilvajardim.com.br
SUMMARY:Aniversário do Templo e dos Homens em Coqueiro
DESCRIPTION:
URL:https://adsilvajardim.com.br/evento/aniversario-do-templo-e-dos-homens-em-coqueiro/
LOCATION:Assembleia de Deus em Coqueiro\, Coqueiro\, Silva Jardim\, Rio de Janeiro\, 28820-000\, Brazil
END:VEVENT
BEGIN:VEVENT
DTSTART;TZID=America/Sao_Paulo:20190608T190000
DTEND;TZID=America/Sao_Paulo:20190608T220000
DTSTAMP:20260423T173918
CREATED:20190306T185414Z
LAST-MODIFIED:20190306T185417Z
UID:23010-1560020400-1560031200@adsilvajardim.com.br
SUMMARY:Encontro de Casais na Sede
DESCRIPTION:
URL:https://adsilvajardim.com.br/evento/encontro-de-casais-na-sede/
LOCATION:Assembléia de Deus em Silva Jardim\, Rua Borges Alfradique\, 196\, Centro\, Silva Jardim\, Rio de Janeiro\, 28820-000\, Brasil
END:VEVENT
BEGIN:VEVENT
DTSTART;TZID=America/Sao_Paulo:20190531T190000
DTEND;TZID=America/Sao_Paulo:20190602T220000
DTSTAMP:20260423T173918
CREATED:20190306T185127Z
LAST-MODIFIED:20190306T185129Z
UID:23008-1559329200-1559512800@adsilvajardim.com.br
SUMMARY:Conferência Missionária Sede
DESCRIPTION:
URL:https://adsilvajardim.com.br/evento/conferencia-missionaria-sede/
LOCATION:Assembléia de Deus em Silva Jardim\, Rua Borges Alfradique\, 196\, Centro\, Silva Jardim\, Rio de Janeiro\, 28820-000\, Brasil
END:VEVENT
BEGIN:VEVENT
DTSTART;TZID=America/Sao_Paulo:20190524T190000
DTEND;TZID=America/Sao_Paulo:20190526T220000
DTSTAMP:20260423T173918
CREATED:20190306T184934Z
LAST-MODIFIED:20190306T184934Z
UID:23007-1558724400-1558908000@adsilvajardim.com.br
SUMMARY:Festa de Irmãs em Fazenda Brasil
DESCRIPTION:
URL:https://adsilvajardim.com.br/evento/festa-de-irmas-em-fazenda-brasil/
LOCATION:Assembléia de Deus em Fazenda Brasil\, Fazenda Brasil\, Silva Jardim\, Rio de Janeiro\, 28820-000\, Brasil
END:VEVENT
BEGIN:VEVENT
DTSTART;TZID=America/Sao_Paulo:20190517T190000
DTEND;TZID=America/Sao_Paulo:20190519T220000
DTSTAMP:20260423T173918
CREATED:20190306T184735Z
LAST-MODIFIED:20190306T184735Z
UID:23003-1558119600-1558303200@adsilvajardim.com.br
SUMMARY:Festa das Irmãs em Serra Alegre
DESCRIPTION:
URL:https://adsilvajardim.com.br/evento/festa-das-irmas-em-serra-alegre/
LOCATION:Assembléia de Deus em Serra Alegre\, Serra Alegre\, Silva Jardim\, Rio de Janeiro\, 28820-000\, Brazil
END:VEVENT
BEGIN:VEVENT
DTSTART;TZID=America/Sao_Paulo:20190517T190000
DTEND;TZID=America/Sao_Paulo:20190519T220000
DTSTAMP:20260423T173918
CREATED:20190306T184449Z
LAST-MODIFIED:20190306T184449Z
UID:23002-1558119600-1558303200@adsilvajardim.com.br
SUMMARY:Festa das Crianças em Biquinha
DESCRIPTION:
URL:https://adsilvajardim.com.br/evento/festa-das-criancas-em-biquinha/
LOCATION:Assembléia de Deus em Biquinha\, Biq\, Biquinha\, Rio de Janeiro\, 28820-000
END:VEVENT
BEGIN:VEVENT
DTSTART;TZID=America/Sao_Paulo:20190510T190000
DTEND;TZID=America/Sao_Paulo:20190512T220000
DTSTAMP:20260423T173918
CREATED:20190306T184159Z
LAST-MODIFIED:20190306T184159Z
UID:23000-1557514800-1557698400@adsilvajardim.com.br
SUMMARY:Festa das Crianças em Cambucais
DESCRIPTION:
URL:https://adsilvajardim.com.br/evento/festa-das-criancas-em-cambucais/
LOCATION:Assembleia de Deus em Cambucais\, Cambucais\, Silva Jardim\, Rio de Janeiro\, 28820-000\, Brasil
END:VEVENT
BEGIN:VEVENT
DTSTART;TZID=America/Sao_Paulo:20190510T190000
DTEND;TZID=America/Sao_Paulo:20190512T220000
DTSTAMP:20260423T173918
CREATED:20190306T183933Z
LAST-MODIFIED:20190306T184052Z
UID:22997-1557514800-1557698400@adsilvajardim.com.br
SUMMARY:Festa de Irmãs em Cidade Nova
DESCRIPTION:
URL:https://adsilvajardim.com.br/evento/festa-de-irmas-em-cidade-nova/
LOCATION:Assembleia de Deus em Cidade Nova\, Cidade Nova\, Silva Jardim\, Rio de Janeiro\, 28820-000\, Brasil
END:VEVENT
BEGIN:VEVENT
DTSTART;TZID=America/Sao_Paulo:20190503T190000
DTEND;TZID=America/Sao_Paulo:20190505T220000
DTSTAMP:20260423T173918
CREATED:20190306T183810Z
LAST-MODIFIED:20190306T183810Z
UID:22992-1556910000-1557093600@adsilvajardim.com.br
SUMMARY:Festa de Jovens em Correntezas
DESCRIPTION:
URL:https://adsilvajardim.com.br/evento/festa-de-jovens-em-correntezas/
LOCATION:Igreja Assembléia de Deus em Correntezas\, SIlva Jardim\, Rio de Janeiro\, 28820-000\, Brasil
END:VEVENT
BEGIN:VEVENT
DTSTART;TZID=America/Sao_Paulo:20190503T190000
DTEND;TZID=America/Sao_Paulo:20190505T220000
DTSTAMP:20260423T173918
CREATED:20190306T183530Z
LAST-MODIFIED:20190306T183620Z
UID:22991-1556910000-1557093600@adsilvajardim.com.br
SUMMARY:Festa do Templo e dos Homens em Areias
DESCRIPTION:
URL:https://adsilvajardim.com.br/evento/festa-do-templo-e-dos-homens-em-areias/
LOCATION:Assembléia de Deus em Areias\, Areias\, Silva Jardim\, Rio de Janeiro\, 28820-000\, Brazil
END:VEVENT
BEGIN:VEVENT
DTSTART;VALUE=DATE:20190427
DTEND;VALUE=DATE:20190428
DTSTAMP:20260423T173918
CREATED:20190306T182720Z
LAST-MODIFIED:20190306T182720Z
UID:22984-1556323200-1556409599@adsilvajardim.com.br
SUMMARY:Batismo na Sede
DESCRIPTION:
URL:https://adsilvajardim.com.br/evento/batismo-na-sede-3/
LOCATION:Assembléia de Deus em Silva Jardim\, Rua Borges Alfradique\, 196\, Centro\, Silva Jardim\, Rio de Janeiro\, 28820-000\, Brasil
END:VEVENT
BEGIN:VEVENT
DTSTART;TZID=America/Sao_Paulo:20190426T190000
DTEND;TZID=America/Sao_Paulo:20190428T220000
DTSTAMP:20260423T173918
CREATED:20190306T183053Z
LAST-MODIFIED:20190306T183053Z
UID:22988-1556305200-1556488800@adsilvajardim.com.br
SUMMARY:Festa do Templo e dos Homens em Lagoa de Juturnaiba
DESCRIPTION:
URL:https://adsilvajardim.com.br/evento/festa-do-templo-e-dos-homens-em-lagoa-de-juturnaiba/
LOCATION:Assembleia de Deus em Lagoa de Juturnaiba\, Juturnaiba\, Silva Jardim\, RJ\, 28820000\, Brasil
END:VEVENT
BEGIN:VEVENT
DTSTART;TZID=America/Sao_Paulo:20190426T190000
DTEND;TZID=America/Sao_Paulo:20190428T220000
DTSTAMP:20260423T173918
CREATED:20190306T182848Z
LAST-MODIFIED:20190306T182848Z
UID:22986-1556305200-1556488800@adsilvajardim.com.br
SUMMARY:Festa de Jovens em Varginha
DESCRIPTION:
URL:https://adsilvajardim.com.br/evento/festa-de-jovens-em-varginha-2/
LOCATION:Assembleia de Deus em Varginha\, Varginha\, Silva Jardim\, RJ\, 28820000\, Brasil
END:VEVENT
BEGIN:VEVENT
DTSTART;TZID=America/Sao_Paulo:20190419T190000
DTEND;TZID=America/Sao_Paulo:20190421T220000
DTSTAMP:20260423T173918
CREATED:20190306T182503Z
LAST-MODIFIED:20190306T182503Z
UID:22982-1555700400-1555884000@adsilvajardim.com.br
SUMMARY:Festa das Crianças em Caxito
DESCRIPTION:
URL:https://adsilvajardim.com.br/evento/festa-das-criancas-em-caxito/
LOCATION:Assembléia de Deus em Caxito\, Silva Jardim\, Rio de Janeiro\, 28820-000
END:VEVENT
BEGIN:VEVENT
DTSTART;TZID=America/Sao_Paulo:20190419T190000
DTEND;TZID=America/Sao_Paulo:20190421T220000
DTSTAMP:20260423T173918
CREATED:20190306T181756Z
LAST-MODIFIED:20190306T181756Z
UID:22980-1555700400-1555884000@adsilvajardim.com.br
SUMMARY:Festa dos Jovens em Lucilândia
DESCRIPTION:
URL:https://adsilvajardim.com.br/evento/festa-dos-jovens-em-lucilandia/
LOCATION:Assembléia de Deus em Lucilândia\, Silva Jardim\, Rio de Janeiro\, 28820-000\, Brasil
END:VEVENT
BEGIN:VEVENT
DTSTART;TZID=America/Sao_Paulo:20190412T190000
DTEND;TZID=America/Sao_Paulo:20190414T220000
DTSTAMP:20260423T173918
CREATED:20190306T181517Z
LAST-MODIFIED:20190306T181517Z
UID:22978-1555095600-1555279200@adsilvajardim.com.br
SUMMARY:Festa das Crianças em Coqueiros
DESCRIPTION:
URL:https://adsilvajardim.com.br/evento/festa-das-criancas-em-coqueiros/
LOCATION:Assembleia de Deus em Coqueiro\, Coqueiro\, Silva Jardim\, Rio de Janeiro\, 28820-000\, Brazil
END:VEVENT
BEGIN:VEVENT
DTSTART;TZID=America/Sao_Paulo:20190412T190000
DTEND;TZID=America/Sao_Paulo:20190414T220000
DTSTAMP:20260423T173918
CREATED:20190306T181355Z
LAST-MODIFIED:20190306T181355Z
UID:22977-1555095600-1555279200@adsilvajardim.com.br
SUMMARY:Encontro de Casais - Sede
DESCRIPTION:
URL:https://adsilvajardim.com.br/evento/encontro-de-casais-sede/
LOCATION:Assembléia de Deus em Silva Jardim\, Rua Borges Alfradique\, 196\, Centro\, Silva Jardim\, Rio de Janeiro\, 28820-000\, Brasil
END:VEVENT
BEGIN:VEVENT
DTSTART;TZID=America/Sao_Paulo:20190405T190000
DTEND;TZID=America/Sao_Paulo:20190408T220000
DTSTAMP:20260423T173918
CREATED:20190306T181139Z
LAST-MODIFIED:20190306T181139Z
UID:22975-1554490800-1554760800@adsilvajardim.com.br
SUMMARY:Congresso de Irmãs na Sede
DESCRIPTION:
URL:https://adsilvajardim.com.br/evento/congresso-de-irmas-na-sede-2/
LOCATION:Assembléia de Deus em Silva Jardim\, Rua Borges Alfradique\, 196\, Centro\, Silva Jardim\, Rio de Janeiro\, 28820-000\, Brasil
END:VEVENT
BEGIN:VEVENT
DTSTART;TZID=America/Sao_Paulo:20190330T190000
DTEND;TZID=America/Sao_Paulo:20190331T220000
DTSTAMP:20260423T173918
CREATED:20190306T180852Z
LAST-MODIFIED:20190306T180852Z
UID:22973-1553972400-1554069600@adsilvajardim.com.br
SUMMARY:Festa das Crianças em Mato Alto
DESCRIPTION:
URL:https://adsilvajardim.com.br/evento/festa-das-criancas-em-mato-alto/
LOCATION:Assembléia de Deus em Mato Alto\, Silva Jardim\, Rio de Janeiro\, 28820-000\, Brasil
END:VEVENT
END:VCALENDAR